BEGIN:VCALENDAR
VERSION:2.0
PRODID:SchoolNow
CALSCALE:GREGORIAN
BEGIN:VEVENT
UID:583cde0e-3224-11ef-87d1-0e3b3434843b
DTSTAMP:20260424T211508Z
SUMMARY:Early Dismissal
URL;VALUE=URI:https://www.pleasval.org/schools/cody/calendar/6160722/early-
 dismissal
DTSTART;VALUE=DATE:20260204
DTEND;VALUE=DATE:20260205
END:VEVENT
END:VCALENDAR
