BEGIN:VCALENDAR
VERSION:2.0
PRODID:SchoolNow
CALSCALE:GREGORIAN
BEGIN:VEVENT
UID:f098d4e2-4880-11ef-a3d6-0e2346217141
DTSTAMP:20260424T211508Z
SUMMARY:Early Dismissal
URL;VALUE=URI:https://www.pleasval.org/schools/cody/calendar/6295828/early-
 dismissal
DTSTART;VALUE=DATE:20260304
DTEND;VALUE=DATE:20260305
END:VEVENT
END:VCALENDAR
