BEGIN:VCALENDAR
VERSION:2.0
PRODID:SchoolNow
CALSCALE:GREGORIAN
BEGIN:VEVENT
UID:5b64e4ee-540e-11ef-86ae-0affeec85325
DTSTAMP:20260424T211508Z
SUMMARY:Early Dismissal
URL;VALUE=URI:https://www.pleasval.org/schools/cody/calendar/6361584/early-
 dismissal
DTSTART;VALUE=DATE:20260401
DTEND;VALUE=DATE:20260402
END:VEVENT
END:VCALENDAR
