BEGIN:VCALENDAR
VERSION:2.0
PRODID:SchoolNow
CALSCALE:GREGORIAN
BEGIN:VEVENT
UID:f3e309fe-5c05-11ef-851e-0a58a9feac02
DTSTAMP:20260424T151008Z
SUMMARY:Early Out
URL;VALUE=URI:https://www.pleasval.org/schools/cody/calendar/6413226/early-
 out
DTSTART;VALUE=DATE:20260415
DTEND;VALUE=DATE:20260416
END:VEVENT
END:VCALENDAR
