BEGIN:VCALENDAR
VERSION:2.0
PRODID:SchoolNow
CALSCALE:GREGORIAN
BEGIN:VEVENT
UID:bdfdfe3a-502d-11f0-878a-0265ee3f2947
DTSTAMP:20260424T211508Z
SUMMARY:FAST Testing Window - Elementary
URL;VALUE=URI:https://www.pleasval.org/schools/cody/calendar/8343487/fast-t
 esting-window-elementary
DTSTART;VALUE=DATE:20260112
DTEND;VALUE=DATE:20260117
END:VEVENT
END:VCALENDAR
