BEGIN:VCALENDAR
VERSION:2.0
PRODID:SchoolNow
CALSCALE:GREGORIAN
BEGIN:VEVENT
UID:bdfe01c8-502d-11f0-85e0-0265ee3f2947
DTSTAMP:20260424T211508Z
SUMMARY:MAP Testing Window - Grades 3-6
URL;VALUE=URI:https://www.pleasval.org/schools/cody/calendar/8343491/map-te
 sting-window-grades-3-6
DTSTART;VALUE=DATE:20260120
DTEND;VALUE=DATE:20260124
END:VEVENT
END:VCALENDAR
