BEGIN:VCALENDAR
VERSION:2.0
PRODID:SchoolNow
CALSCALE:GREGORIAN
BEGIN:VEVENT
UID:bdfe060a-502d-11f0-8702-0265ee3f2947
DTSTAMP:20260424T211508Z
SUMMARY:MAP Testing Make Ups - Grades 3-6
URL;VALUE=URI:https://www.pleasval.org/schools/cody/calendar/8343496/map-te
 sting-make-ups-grades-3-6
DTSTART;VALUE=DATE:20260528
DTEND;VALUE=DATE:20260530
END:VEVENT
END:VCALENDAR
