BEGIN:VCALENDAR
VERSION:2.0
PRODID:SchoolNow
CALSCALE:GREGORIAN
BEGIN:VEVENT
UID:c7ca66dc-568c-11f0-91ea-0a58a9feac02
DTSTAMP:20260424T211508Z
SUMMARY:No School - President's Day
URL;VALUE=URI:https://www.pleasval.org/schools/cody/calendar/8373696/no-sch
 ool-presidents-day
DTSTART;VALUE=DATE:20260216
DTEND;VALUE=DATE:20260217
END:VEVENT
END:VCALENDAR
