BEGIN:VCALENDAR
VERSION:2.0
PRODID:SchoolNow
CALSCALE:GREGORIAN
BEGIN:VEVENT
UID:c7ca6ab0-568c-11f0-b406-0a58a9feac02
DTSTAMP:20260424T211508Z
SUMMARY:Last Day of School
URL;VALUE=URI:https://www.pleasval.org/schools/cody/calendar/8373700/last-d
 ay-of-school
DTSTART;VALUE=DATE:20260605
DTEND;VALUE=DATE:20260606
END:VEVENT
END:VCALENDAR
