BEGIN:VCALENDAR
VERSION:2.0
PRODID:SchoolNow
CALSCALE:GREGORIAN
BEGIN:VEVENT
UID:c515cc50-56bf-11f0-9a56-0affc8136975
DTSTAMP:20260424T211508Z
SUMMARY:Elementary Classroom Parties - Valentine's
URL;VALUE=URI:https://www.pleasval.org/schools/cody/calendar/8375026/elemen
 tary-classroom-parties-valentines
DTSTART:20260212T203000Z
DTEND:20260212T210000Z
END:VEVENT
END:VCALENDAR
