BEGIN:VCALENDAR
VERSION:2.0
PRODID:SchoolNow
CALSCALE:GREGORIAN
BEGIN:VEVENT
UID:c515ce12-56bf-11f0-b26c-0affc8136975
DTSTAMP:20260424T211508Z
SUMMARY:Senior Send Off Parades at Elementary Buildings
URL;VALUE=URI:https://www.pleasval.org/schools/cody/calendar/8375028/senior
 -send-off-parades-at-elementary-buildings
DTSTART:20260521T130000Z
DTEND:20260521T140000Z
END:VEVENT
END:VCALENDAR
