BEGIN:VCALENDAR
VERSION:2.0
PRODID:SchoolNow
CALSCALE:GREGORIAN
BEGIN:VEVENT
UID:8551da24-7964-11f0-b447-029554454333
DTSTAMP:20260424T211508Z
SUMMARY:PTA Meeting
URL;VALUE=URI:https://www.pleasval.org/schools/cody/calendar/8508960/pta-me
 eting
DTSTART:20260113T003000Z
DTEND:20260113T013000Z
END:VEVENT
END:VCALENDAR
