BEGIN:VCALENDAR
VERSION:2.0
PRODID:SchoolNow
CALSCALE:GREGORIAN
BEGIN:VEVENT
UID:8551dbdc-7964-11f0-a622-029554454333
DTSTAMP:20260424T211508Z
SUMMARY:PTA Meeting
URL;VALUE=URI:https://www.pleasval.org/schools/cody/calendar/8508962/pta-me
 eting
DTSTART:20260309T233000Z
DTEND:20260310T003000Z
END:VEVENT
END:VCALENDAR
