BEGIN:VCALENDAR
VERSION:2.0
PRODID:SchoolNow
CALSCALE:GREGORIAN
BEGIN:VEVENT
UID:8551dcb8-7964-11f0-bd6a-029554454333
DTSTAMP:20260424T211508Z
SUMMARY:Spring Program
URL;VALUE=URI:https://www.pleasval.org/schools/cody/calendar/8508963/spring
 -program
DTSTART:20260407T140000Z
DTEND:20260407T153000Z
END:VEVENT
END:VCALENDAR
