BEGIN:VCALENDAR
VERSION:2.0
PRODID:SchoolNow
CALSCALE:GREGORIAN
BEGIN:VEVENT
UID:8551dd94-7964-11f0-bf15-029554454333
DTSTAMP:20260424T151008Z
SUMMARY:Spring Program
URL;VALUE=URI:https://www.pleasval.org/schools/cody/calendar/8508964/spring
 -program
DTSTART:20260407T180000Z
DTEND:20260407T193000Z
END:VEVENT
END:VCALENDAR
