BEGIN:VCALENDAR
VERSION:2.0
PRODID:SchoolNow
CALSCALE:GREGORIAN
BEGIN:VEVENT
UID:8551de70-7964-11f0-871c-029554454333
DTSTAMP:20260424T151008Z
SUMMARY:PTA Meeting
URL;VALUE=URI:https://www.pleasval.org/schools/cody/calendar/8508965/pta-me
 eting
DTSTART:20260413T133000Z
DTEND:20260413T143000Z
END:VEVENT
END:VCALENDAR
