BEGIN:VCALENDAR
VERSION:2.0
PRODID:SchoolNow
CALSCALE:GREGORIAN
BEGIN:VEVENT
UID:bfd4e208-98a5-11f0-90c1-0a58a9feac02
DTSTAMP:20260424T211508Z
SUMMARY:PTA Scholastic Book Fair
URL;VALUE=URI:https://www.pleasval.org/schools/cody/calendar/8656864/pta-sc
 holastic-book-fair
DTSTART:20260224T170000Z
DTEND:20260224T190000Z
END:VEVENT
END:VCALENDAR
