BEGIN:VCALENDAR
VERSION:2.0
PRODID:SchoolNow
CALSCALE:GREGORIAN
BEGIN:VEVENT
UID:63068520-cfc5-11f0-865d-0a58a9feac02
DTSTAMP:20260424T211508Z
SUMMARY:Spelling Bee
URL;VALUE=URI:https://www.pleasval.org/schools/cody/calendar/8815797/spelli
 ng-bee
DTSTART:20260114T211500Z
DTEND:20260114T223000Z
END:VEVENT
END:VCALENDAR
