BEGIN:VCALENDAR
VERSION:2.0
PRODID:SchoolNow
CALSCALE:GREGORIAN
BEGIN:VEVENT
UID:9539db80-f30d-11f0-9739-0a58a9feac02
DTSTAMP:20260424T211508Z
SUMMARY:Day 3
URL;VALUE=URI:https://www.pleasval.org/schools/cody/calendar/8837139/day-3
DTSTART;VALUE=DATE:20260226
DTEND;VALUE=DATE:20260227
END:VEVENT
END:VCALENDAR
