BEGIN:VCALENDAR
VERSION:2.0
PRODID:SchoolNow
CALSCALE:GREGORIAN
BEGIN:VEVENT
UID:9539dfa4-f30d-11f0-8766-0a58a9feac02
DTSTAMP:20260424T211508Z
SUMMARY:Day 3
URL;VALUE=URI:https://www.pleasval.org/schools/cody/calendar/8837141/day-3
DTSTART;VALUE=DATE:20260209
DTEND;VALUE=DATE:20260210
END:VEVENT
END:VCALENDAR
