BEGIN:VCALENDAR
VERSION:2.0
PRODID:SchoolNow
CALSCALE:GREGORIAN
BEGIN:VEVENT
UID:9539ec88-f30d-11f0-8163-0a58a9feac02
DTSTAMP:20260424T211508Z
SUMMARY:Day 2
URL;VALUE=URI:https://www.pleasval.org/schools/cody/calendar/8837151/day-2
DTSTART;VALUE=DATE:20260219
DTEND;VALUE=DATE:20260220
END:VEVENT
END:VCALENDAR
