BEGIN:VCALENDAR
VERSION:2.0
PRODID:SchoolNow
CALSCALE:GREGORIAN
BEGIN:VEVENT
UID:9539ee7c-f30d-11f0-8218-0a58a9feac02
DTSTAMP:20260424T211508Z
SUMMARY:Day 1
URL;VALUE=URI:https://www.pleasval.org/schools/cody/calendar/8837153/day-1
DTSTART;VALUE=DATE:20260130
DTEND;VALUE=DATE:20260131
END:VEVENT
END:VCALENDAR
