BEGIN:VCALENDAR
VERSION:2.0
PRODID:SchoolNow
CALSCALE:GREGORIAN
BEGIN:VEVENT
UID:9539f002-f30d-11f0-a941-0a58a9feac02
DTSTAMP:20260424T211508Z
SUMMARY:Day 4
URL;VALUE=URI:https://www.pleasval.org/schools/cody/calendar/8837154/day-4
DTSTART;VALUE=DATE:20260227
DTEND;VALUE=DATE:20260228
END:VEVENT
END:VCALENDAR
