BEGIN:VCALENDAR
VERSION:2.0
PRODID:SchoolNow
CALSCALE:GREGORIAN
BEGIN:VEVENT
UID:956f66a6-f30d-11f0-9aaa-0a58a9feac02
DTSTAMP:20260424T211508Z
SUMMARY:Day 4
URL;VALUE=URI:https://www.pleasval.org/schools/cody/calendar/8837156/day-4
DTSTART;VALUE=DATE:20260129
DTEND;VALUE=DATE:20260130
END:VEVENT
END:VCALENDAR
