BEGIN:VCALENDAR
VERSION:2.0
PRODID:SchoolNow
CALSCALE:GREGORIAN
BEGIN:VEVENT
UID:956f689a-f30d-11f0-aeda-0a58a9feac02
DTSTAMP:20260424T211508Z
SUMMARY:Day 1
URL;VALUE=URI:https://www.pleasval.org/schools/cody/calendar/8837157/day-1
DTSTART;VALUE=DATE:20260218
DTEND;VALUE=DATE:20260219
END:VEVENT
END:VCALENDAR
