BEGIN:VCALENDAR
VERSION:2.0
PRODID:SchoolNow
CALSCALE:GREGORIAN
BEGIN:VEVENT
UID:956f71be-f30d-11f0-bb8b-0a58a9feac02
DTSTAMP:20260424T211508Z
SUMMARY:Day 2
URL;VALUE=URI:https://www.pleasval.org/schools/cody/calendar/8837164/day-2
DTSTART;VALUE=DATE:20260120
DTEND;VALUE=DATE:20260121
END:VEVENT
END:VCALENDAR
