BEGIN:VCALENDAR
VERSION:2.0
PRODID:SchoolNow
CALSCALE:GREGORIAN
BEGIN:VEVENT
UID:4bb5842a-f8a1-11f0-8215-0279846b68c1
DTSTAMP:20260424T211508Z
SUMMARY:Weather Make Up Day - Early Dismissal
URL;VALUE=URI:https://www.pleasval.org/schools/cody/calendar/8840053/weathe
 r-make-up-day-early-dismissal
DTSTART;VALUE=DATE:20260213
DTEND;VALUE=DATE:20260214
END:VEVENT
END:VCALENDAR
