BEGIN:VCALENDAR
VERSION:2.0
PRODID:SchoolNow
CALSCALE:GREGORIAN
BEGIN:VEVENT
UID:2c750b0c-fbd1-11f0-afc8-0a58a9feac02
DTSTAMP:20260424T211508Z
SUMMARY:Day 3
URL;VALUE=URI:https://www.pleasval.org/schools/cody/calendar/8845295/day-3
DTSTART;VALUE=DATE:20260213
DTEND;VALUE=DATE:20260214
END:VEVENT
END:VCALENDAR
