BEGIN:VCALENDAR
VERSION:2.0
PRODID:SchoolNow
CALSCALE:GREGORIAN
BEGIN:VEVENT
UID:da70b650-092a-11f1-8716-020ad4a40e1b
DTSTAMP:20260424T211508Z
SUMMARY:PTA Scholastic Book Fair
URL;VALUE=URI:https://www.pleasval.org/schools/cody/calendar/8855412/pta-sc
 holastic-book-fair
DTSTART:20260227T170000Z
DTEND:20260227T190000Z
END:VEVENT
END:VCALENDAR
