BEGIN:VCALENDAR
VERSION:2.0
PRODID:SchoolNow
CALSCALE:GREGORIAN
BEGIN:VEVENT
UID:da70b844-092a-11f1-ba88-020ad4a40e1b
DTSTAMP:20260424T211508Z
SUMMARY:PTA Scholastic Book Fair
URL;VALUE=URI:https://www.pleasval.org/schools/cody/calendar/8855413/pta-sc
 holastic-book-fair
DTSTART:20260226T213000Z
DTEND:20260227T020000Z
END:VEVENT
END:VCALENDAR
