BEGIN:VCALENDAR
VERSION:2.0
PRODID:SchoolNow
CALSCALE:GREGORIAN
BEGIN:VEVENT
UID:da70b98e-092a-11f1-a699-020ad4a40e1b
DTSTAMP:20260424T211508Z
SUMMARY:PTA Scholastic Book Fair
URL;VALUE=URI:https://www.pleasval.org/schools/cody/calendar/8855414/pta-sc
 holastic-book-fair
DTSTART:20260224T220000Z
DTEND:20260225T020000Z
END:VEVENT
END:VCALENDAR
