BEGIN:VCALENDAR
VERSION:2.0
PRODID:SchoolNow
CALSCALE:GREGORIAN
BEGIN:VEVENT
UID:da70c096-092a-11f1-a6ca-020ad4a40e1b
DTSTAMP:20260424T211508Z
SUMMARY:PTA Scholastic Book Fair
URL;VALUE=URI:https://www.pleasval.org/schools/cody/calendar/8855417/pta-sc
 holastic-book-fair
DTSTART:20260226T170000Z
DTEND:20260226T190000Z
END:VEVENT
END:VCALENDAR
