BEGIN:VCALENDAR
VERSION:2.0
PRODID:SchoolNow
CALSCALE:GREGORIAN
BEGIN:VEVENT
UID:da70c2c6-092a-11f1-84a1-020ad4a40e1b
DTSTAMP:20260424T211508Z
SUMMARY:Day 1
URL;VALUE=URI:https://www.pleasval.org/schools/cody/calendar/8855418/day-1
DTSTART;VALUE=DATE:20260302
DTEND;VALUE=DATE:20260303
END:VEVENT
END:VCALENDAR
