BEGIN:VCALENDAR
VERSION:2.0
PRODID:SchoolNow
CALSCALE:GREGORIAN
BEGIN:VEVENT
UID:b0f178b8-0c5a-11f1-98dd-0a58a9feac02
DTSTAMP:20260424T211508Z
SUMMARY:Day 2
URL;VALUE=URI:https://www.pleasval.org/schools/cody/calendar/8858200/day-2
DTSTART;VALUE=DATE:20260309
DTEND;VALUE=DATE:20260310
END:VEVENT
END:VCALENDAR
