BEGIN:VCALENDAR
VERSION:2.0
PRODID:SchoolNow
CALSCALE:GREGORIAN
BEGIN:VEVENT
UID:b0f17af2-0c5a-11f1-b2b7-0a58a9feac02
DTSTAMP:20260424T211508Z
SUMMARY:Day 3
URL;VALUE=URI:https://www.pleasval.org/schools/cody/calendar/8858202/day-3
DTSTART;VALUE=DATE:20260327
DTEND;VALUE=DATE:20260328
END:VEVENT
END:VCALENDAR
