BEGIN:VCALENDAR
VERSION:2.0
PRODID:SchoolNow
CALSCALE:GREGORIAN
BEGIN:VEVENT
UID:b0f181e6-0c5a-11f1-aba2-0a58a9feac02
DTSTAMP:20260424T211508Z
SUMMARY:Day 4
URL;VALUE=URI:https://www.pleasval.org/schools/cody/calendar/8858209/day-4
DTSTART;VALUE=DATE:20260410
DTEND;VALUE=DATE:20260411
END:VEVENT
END:VCALENDAR
