BEGIN:VCALENDAR
VERSION:2.0
PRODID:SchoolNow
CALSCALE:GREGORIAN
BEGIN:VEVENT
UID:b11949d8-0c5a-11f1-b2a7-0a58a9feac02
DTSTAMP:20260424T151008Z
SUMMARY:Day 4
URL;VALUE=URI:https://www.pleasval.org/schools/cody/calendar/8858210/day-4
DTSTART;VALUE=DATE:20260416
DTEND;VALUE=DATE:20260417
END:VEVENT
END:VCALENDAR
