BEGIN:VCALENDAR
VERSION:2.0
PRODID:SchoolNow
CALSCALE:GREGORIAN
BEGIN:VEVENT
UID:b1194d48-0c5a-11f1-999f-0a58a9feac02
DTSTAMP:20260424T151008Z
SUMMARY:Day 4
URL;VALUE=URI:https://www.pleasval.org/schools/cody/calendar/8858211/day-4
DTSTART;VALUE=DATE:20260422
DTEND;VALUE=DATE:20260423
END:VEVENT
END:VCALENDAR
