BEGIN:VCALENDAR
VERSION:2.0
PRODID:SchoolNow
CALSCALE:GREGORIAN
BEGIN:VEVENT
UID:b1194fc8-0c5a-11f1-8430-0a58a9feac02
DTSTAMP:20260424T211508Z
SUMMARY:Day 2
URL;VALUE=URI:https://www.pleasval.org/schools/cody/calendar/8858213/day-2
DTSTART;VALUE=DATE:20260313
DTEND;VALUE=DATE:20260314
END:VEVENT
END:VCALENDAR
