BEGIN:VCALENDAR
VERSION:2.0
PRODID:SchoolNow
CALSCALE:GREGORIAN
BEGIN:VEVENT
UID:b1195716-0c5a-11f1-b2e1-0a58a9feac02
DTSTAMP:20260424T151008Z
SUMMARY:Day 1
URL;VALUE=URI:https://www.pleasval.org/schools/cody/calendar/8858218/day-1
DTSTART;VALUE=DATE:20260413
DTEND;VALUE=DATE:20260414
END:VEVENT
END:VCALENDAR
