BEGIN:VCALENDAR
VERSION:2.0
PRODID:SchoolNow
CALSCALE:GREGORIAN
BEGIN:VEVENT
UID:b119589c-0c5a-11f1-a42e-0a58a9feac02
DTSTAMP:20260424T211508Z
SUMMARY:Day 1
URL;VALUE=URI:https://www.pleasval.org/schools/cody/calendar/8858219/day-1
DTSTART;VALUE=DATE:20260417
DTEND;VALUE=DATE:20260418
END:VEVENT
END:VCALENDAR
