BEGIN:VCALENDAR
VERSION:2.0
PRODID:SchoolNow
CALSCALE:GREGORIAN
BEGIN:VEVENT
UID:b11959d2-0c5a-11f1-9c42-0a58a9feac02
DTSTAMP:20260424T151008Z
SUMMARY:Day 3
URL;VALUE=URI:https://www.pleasval.org/schools/cody/calendar/8858220/day-3
DTSTART;VALUE=DATE:20260421
DTEND;VALUE=DATE:20260422
END:VEVENT
END:VCALENDAR
