BEGIN:VCALENDAR
VERSION:2.0
PRODID:SchoolNow
CALSCALE:GREGORIAN
BEGIN:VEVENT
UID:955147e0-0e8b-11f1-851b-0a58a9feac02
DTSTAMP:20260424T211508Z
SUMMARY:PTA Scholastic Book Fair - Library
URL;VALUE=URI:https://www.pleasval.org/schools/cody/calendar/8862312/pta-sc
 holastic-book-fair-library
DTSTART:20260225T220000Z
DTEND:20260226T010000Z
END:VEVENT
END:VCALENDAR
