BEGIN:VCALENDAR
VERSION:2.0
PRODID:SchoolNow
CALSCALE:GREGORIAN
BEGIN:VEVENT
UID:540b3930-1386-11f1-8831-0a58a9feac02
DTSTAMP:20260424T151008Z
SUMMARY:Cody Culture Night
URL;VALUE=URI:https://www.pleasval.org/schools/cody/calendar/8874473/cody-c
 ulture-night
DTSTART:20260424T223000Z
DTEND:20260425T000000Z
END:VEVENT
END:VCALENDAR
