BEGIN:VCALENDAR
VERSION:2.0
PRODID:SchoolNow
CALSCALE:GREGORIAN
BEGIN:VEVENT
UID:044a5bf0-19b3-11f1-9a77-0a58a9feac02
DTSTAMP:20260424T211508Z
SUMMARY:PK\, T2K\, KG Students ONLY - No School
URL;VALUE=URI:https://www.pleasval.org/schools/cody/calendar/8897020/pk-t2k
 -kg-students-only-no-school
DTSTART;VALUE=DATE:20260522
DTEND;VALUE=DATE:20260523
END:VEVENT
END:VCALENDAR
