BEGIN:VCALENDAR
VERSION:2.0
PRODID:SchoolNow
CALSCALE:GREGORIAN
BEGIN:VEVENT
UID:62e0bd94-3224-11ef-8283-02efec0a2d81
DTSTAMP:20260424T035543Z
SUMMARY:Early Dismissal
URL;VALUE=URI:https://www.pleasval.org/schools/forest-grove/calendar/616080
 0/early-dismissal
DTSTART;VALUE=DATE:20260107
DTEND;VALUE=DATE:20260108
END:VEVENT
END:VCALENDAR
