BEGIN:VCALENDAR
VERSION:2.0
PRODID:SchoolNow
CALSCALE:GREGORIAN
BEGIN:VEVENT
UID:62e2bc48-3224-11ef-978e-02efec0a2d81
DTSTAMP:20260424T035543Z
SUMMARY:Early Out
URL;VALUE=URI:https://www.pleasval.org/schools/forest-grove/calendar/616081
 8/early-out
DTSTART;VALUE=DATE:20260218
DTEND;VALUE=DATE:20260219
END:VEVENT
END:VCALENDAR
