BEGIN:VCALENDAR
VERSION:2.0
PRODID:SchoolNow
CALSCALE:GREGORIAN
BEGIN:VEVENT
UID:c352d22a-502d-11f0-ba6d-02943fc32455
DTSTAMP:20260424T035543Z
SUMMARY:PTA Meeting
URL;VALUE=URI:https://www.pleasval.org/schools/forest-grove/calendar/834349
 8/pta-meeting
DTSTART:20260519T230000Z
DTEND:20260520T000000Z
END:VEVENT
END:VCALENDAR
