BEGIN:VCALENDAR
VERSION:2.0
PRODID:SchoolNow
CALSCALE:GREGORIAN
BEGIN:VEVENT
UID:c352d57c-502d-11f0-a4cf-02943fc32455
DTSTAMP:20260424T035543Z
SUMMARY:Spring Concert 9:00 & 1:00
URL;VALUE=URI:https://www.pleasval.org/schools/forest-grove/calendar/834350
 1/spring-concert-9-00-1-00
DTSTART;VALUE=DATE:20260327
DTEND;VALUE=DATE:20260328
END:VEVENT
END:VCALENDAR
