BEGIN:VCALENDAR
VERSION:2.0
PRODID:SchoolNow
CALSCALE:GREGORIAN
BEGIN:VEVENT
UID:c352d752-502d-11f0-9ccc-02943fc32455
DTSTAMP:20260423T215052Z
SUMMARY:PTA Meeting
URL;VALUE=URI:https://www.pleasval.org/schools/forest-grove/calendar/834350
 3/pta-meeting
DTSTART:20260421T230000Z
DTEND:20260422T000000Z
END:VEVENT
END:VCALENDAR
